BEGIN:VCALENDAR
VERSION:2.0
PRODID:-//Scale Squadron of Southern California - ECPv6.15.20//NONSGML v1.0//EN
CALSCALE:GREGORIAN
METHOD:PUBLISH
X-ORIGINAL-URL:https://www.scalesquadron.com
X-WR-CALDESC:Events for Scale Squadron of Southern California
REFRESH-INTERVAL;VALUE=DURATION:PT1H
X-Robots-Tag:noindex
X-PUBLISHED-TTL:PT1H
BEGIN:VTIMEZONE
TZID:America/Los_Angeles
BEGIN:DAYLIGHT
TZOFFSETFROM:-0800
TZOFFSETTO:-0700
TZNAME:PDT
DTSTART:20190310T100000
END:DAYLIGHT
BEGIN:STANDARD
TZOFFSETFROM:-0700
TZOFFSETTO:-0800
TZNAME:PST
DTSTART:20191103T090000
END:STANDARD
BEGIN:DAYLIGHT
TZOFFSETFROM:-0800
TZOFFSETTO:-0700
TZNAME:PDT
DTSTART:20200308T100000
END:DAYLIGHT
BEGIN:STANDARD
TZOFFSETFROM:-0700
TZOFFSETTO:-0800
TZNAME:PST
DTSTART:20201101T090000
END:STANDARD
BEGIN:DAYLIGHT
TZOFFSETFROM:-0800
TZOFFSETTO:-0700
TZNAME:PDT
DTSTART:20210314T100000
END:DAYLIGHT
BEGIN:STANDARD
TZOFFSETFROM:-0700
TZOFFSETTO:-0800
TZNAME:PST
DTSTART:20211107T090000
END:STANDARD
END:VTIMEZONE
BEGIN:VEVENT
DTSTART;TZID=America/Los_Angeles:20200210T190000
DTEND;TZID=America/Los_Angeles:20200210T210000
DTSTAMP:20260422T144701
CREATED:20200210T005908Z
LAST-MODIFIED:20200210T005912Z
UID:8421-1581361200-1581368400@www.scalesquadron.com
SUMMARY:Squadron General Meeting
DESCRIPTION:Each month the members of the Scale Squadron meet to discuss club events\, flying events and competitions\, share new modeling projects\, share some coffee and snacks\, and enjoy the evening.  \n\n\n\nMeetings are open to all modelers interested in Scale R/C Modeling. Meetings are free to attend.  Of course scale enthusiasts are encouraged to join the club.
URL:https://www.scalesquadron.com/event/squadron-general-meeting/
LOCATION:GREEN VALLEY ADULT CLUBHOUSE\, 17250 West Los Jardines\, Fountain Valley\, California\, 92708\, United States
CATEGORIES:Meeting
END:VEVENT
END:VCALENDAR