BEGIN:VCALENDAR
VERSION:2.0
PRODID:-//Scale Squadron of Southern California - ECPv6.15.20//NONSGML v1.0//EN
CALSCALE:GREGORIAN
METHOD:PUBLISH
X-WR-CALNAME:Scale Squadron of Southern California
X-ORIGINAL-URL:https://www.scalesquadron.com
X-WR-CALDESC:Events for Scale Squadron of Southern California
REFRESH-INTERVAL;VALUE=DURATION:PT1H
X-Robots-Tag:noindex
X-PUBLISHED-TTL:PT1H
BEGIN:VTIMEZONE
TZID:America/Los_Angeles
BEGIN:DAYLIGHT
TZOFFSETFROM:-0800
TZOFFSETTO:-0700
TZNAME:PDT
DTSTART:20190310T100000
END:DAYLIGHT
BEGIN:STANDARD
TZOFFSETFROM:-0700
TZOFFSETTO:-0800
TZNAME:PST
DTSTART:20191103T090000
END:STANDARD
BEGIN:DAYLIGHT
TZOFFSETFROM:-0800
TZOFFSETTO:-0700
TZNAME:PDT
DTSTART:20200308T100000
END:DAYLIGHT
BEGIN:STANDARD
TZOFFSETFROM:-0700
TZOFFSETTO:-0800
TZNAME:PST
DTSTART:20201101T090000
END:STANDARD
BEGIN:DAYLIGHT
TZOFFSETFROM:-0800
TZOFFSETTO:-0700
TZNAME:PDT
DTSTART:20210314T100000
END:DAYLIGHT
BEGIN:STANDARD
TZOFFSETFROM:-0700
TZOFFSETTO:-0800
TZNAME:PST
DTSTART:20211107T090000
END:STANDARD
END:VTIMEZONE
BEGIN:VEVENT
DTSTART;TZID=America/Los_Angeles:20200413T080000
DTEND;TZID=America/Los_Angeles:20200413T170000
DTSTAMP:20260422T022518
CREATED:20200325T031155Z
LAST-MODIFIED:20200325T031201Z
UID:9273-1586764800-1586797200@www.scalesquadron.com
SUMMARY:April Meeting is Cancelled.
DESCRIPTION:Sorry gang\, the April meeting is cancelled. We’ll know by end of April if it is safe to have the May meeting. It’s bummer but better safe than sorry. Stay strong\, and Build On!
URL:https://www.scalesquadron.com/event/april-meeting-is-cancelled/
END:VEVENT
END:VCALENDAR